BEGIN:VCALENDAR
VERSION:2.0
PRODID:-//Tukios.com/
BEGIN:VEVENT
UID:4b2e8246-be7c-4998-986c-b0410b72eaa1@www.elliottmortuary.com
DTSTAMP:20260421T201346Z
DTSTART:20260428T153000Z
DTEND:20260428T163000Z
SUMMARY:Memorial Service
DESCRIPTION:
URL:https://www.elliottmortuary.com/obituaries/carol-dirksen
LOCATION:Hutchinson Seventh Day Adventist Church 1302 North Severance 
	Street  Hutchinson KS 67501
GEO:38.0671154;-97.912753
END:VEVENT
END:VCALENDAR