BEGIN:VCALENDAR
VERSION:2.0
PRODID:-//Tukios.com/
BEGIN:VEVENT
UID:9ce725d7-ac8d-4d66-b84b-c3fae18a9556@www.elliottmortuary.com
DTSTAMP:20260421T192546Z
DTSTART:20260427T153000Z
DTEND:20260427T163000Z
SUMMARY:Graveside Service
DESCRIPTION:
URL:https://www.elliottmortuary.com/obituaries/christina-marie-reif-fuhrman
LOCATION:Fowler Cemetery    Fowler KS 67844
GEO:37.3855792;-100.1956967
END:VEVENT
END:VCALENDAR