BEGIN:VCALENDAR
VERSION:2.0
PRODID:-//Tukios.com/
BEGIN:VEVENT
UID:20d2204c-1c76-4762-a27c-51894b02bfa3@www.elliottmortuary.com
DTSTAMP:20260421T191752Z
DTSTART:20260425T180000Z
DTEND:20260425T190000Z
SUMMARY:Funeral Service
DESCRIPTION:
URL:https://www.elliottmortuary.com/obituaries/eldena-stevens
LOCATION:Elliott Chapel 1219 North Main Street  Hutchinson KS 67501
GEO:38.0668966;-97.9323033
END:VEVENT
END:VCALENDAR