BEGIN:VCALENDAR
VERSION:2.0
PRODID:-//Tukios.com/
BEGIN:VEVENT
UID:a3818172-4714-4de7-9af0-032205fe4d36@www.elliottmortuary.com
DTSTAMP:20260421T201131Z
DTSTART:20260428T150000Z
DTEND:20260428T153000Z
SUMMARY:Parish Rosary
DESCRIPTION:
URL:https://www.elliottmortuary.com/obituaries/james-o-dick
LOCATION:St. Teresa Catholic Church 211 E 5th Ave  Hutchinson KS 67501
GEO:38.0580099;-97.9270696
END:VEVENT
END:VCALENDAR