BEGIN:VCALENDAR
VERSION:2.0
PRODID:-//Tukios.com/
BEGIN:VEVENT
UID:e9668cb3-1e82-4974-a416-1281da87db0e@www.elliottmortuary.com
DTSTAMP:20260421T201653Z
DTSTART:20260428T153000Z
DTEND:20260428T163000Z
SUMMARY:Mass of Christian Burial
DESCRIPTION:
URL:https://www.elliottmortuary.com/obituaries/james-o-dick
LOCATION:St. Teresa Catholic Church 211 E 5th Ave  Hutchinson KS 67501
GEO:38.0580099;-97.9270696
END:VEVENT
END:VCALENDAR