BEGIN:VCALENDAR
VERSION:2.0
PRODID:-//Tukios.com/
BEGIN:VEVENT
UID:af2ca611-9d3a-4dbe-814e-fceb5fbcb0ce@www.elliottmortuary.com
DTSTAMP:20260421T192510Z
DTSTART:20260424T230000Z
DTEND:20260425T010000Z
SUMMARY:Family to receive friends
DESCRIPTION:
URL:https://www.elliottmortuary.com/obituaries/jeanne-newburn-mackay
LOCATION:Elliott Mortuary Chapel 1219 North Main Street  Hutchinson KS 
	67501
GEO:38.0668966;-97.9323033
END:VEVENT
END:VCALENDAR