BEGIN:VCALENDAR
VERSION:2.0
PRODID:-//Tukios.com/
BEGIN:VEVENT
UID:59d27403-4f28-449e-9f4c-f69117268149@www.elliottmortuary.com
DTSTAMP:20260421T192058Z
DTSTART:20260425T150000Z
DTEND:20260425T160000Z
SUMMARY:Celebration of Life
DESCRIPTION:
URL:https://www.elliottmortuary.com/obituaries/jeanne-newburn-mackay
LOCATION:Elliott Mortuary Chapel 1219 North Main Street  Hutchinson KS 
	67501
GEO:38.0668966;-97.9323033
END:VEVENT
END:VCALENDAR