BEGIN:VCALENDAR
VERSION:2.0
PRODID:-//Tukios.com/
BEGIN:VEVENT
UID:1c77ab8f-d38d-49b4-a487-ec7e5f9ac807@www.elliottmortuary.com
DTSTAMP:20260421T221940Z
DTSTART:20260426T190000Z
DTEND:20260426T220000Z
SUMMARY:Celebration of Life
DESCRIPTION:
URL:https://www.elliottmortuary.com/obituaries/jerrie-pitts
LOCATION: 3709 Asbury Place  Hutchinson KS 67502
GEO:38.0942738;-97.946084
END:VEVENT
END:VCALENDAR