BEGIN:VCALENDAR
VERSION:2.0
PRODID:-//Tukios.com/
BEGIN:VEVENT
UID:1bf17ce7-a2a9-4724-b4ad-4ba85cfd7cbe@www.elliottmortuary.com
DTSTAMP:20260421T201229Z
DTSTART:20260425T160000Z
DTEND:20260425T170000Z
SUMMARY:Celebration of Life
DESCRIPTION:
URL:https://www.elliottmortuary.com/obituaries/julie-teeter
LOCATION:First Congregational Church 3410 North Plum Street  Hutchinson 
	KS 67502
GEO:38.0934005;-97.9213169
END:VEVENT
END:VCALENDAR