BEGIN:VCALENDAR
VERSION:2.0
PRODID:-//Tukios.com/
BEGIN:VEVENT
UID:48902624-c0de-40b4-8d51-9c026ed68418@www.elliottmortuary.com
DTSTAMP:20260421T191757Z
DTSTART:20260502T180000Z
DTEND:20260502T210000Z
SUMMARY:Celebration of Life
DESCRIPTION:
URL:https://www.elliottmortuary.com/obituaries/linda-engweiler-luyster
LOCATION:Sterling American Legion 108 East Garfield Avenue  Sterling KS 
	67579
GEO:38.2031195;-98.2061893
END:VEVENT
END:VCALENDAR