BEGIN:VCALENDAR
VERSION:2.0
PRODID:-//Tukios.com/
BEGIN:VEVENT
UID:44b076d0-24a4-4ac1-86ce-4ea6800e7ce2@www.elliottmortuary.com
DTSTAMP:20260421T232516Z
DTSTART:20260422T230000Z
DTEND:20260423T010000Z
SUMMARY:Visitation
DESCRIPTION:
URL:https://www.elliottmortuary.com/obituaries/mildred-millie-stoughton-maskil
LOCATION: 1219 N Main St  Hutchinson KS 67501
GEO:38.0668966;-97.9323033
END:VEVENT
END:VCALENDAR