BEGIN:VCALENDAR
VERSION:2.0
PRODID:-//Tukios.com/
BEGIN:VEVENT
UID:9d55ef59-da6e-4198-87f9-bfe759270653@www.elliottmortuary.com
DTSTAMP:20260421T232757Z
DTSTART:20260423T153000Z
DTEND:20260423T163000Z
SUMMARY:Funeral Service
DESCRIPTION:
URL:https://www.elliottmortuary.com/obituaries/mildred-millie-stoughton-maskil
LOCATION: 1219 N Main St  Hutchinson KS 67501
GEO:38.0668966;-97.9323033
END:VEVENT
END:VCALENDAR