BEGIN:VCALENDAR
VERSION:2.0
PRODID:-//Tukios.com/
BEGIN:VEVENT
UID:f6a20140-d40d-4b72-913f-92bdcab31696@www.elliottmortuary.com
DTSTAMP:20260425T002828Z
DTSTART:20260430T220000Z
DTEND:20260501T000000Z
SUMMARY:Visitation with Family
DESCRIPTION:
URL:https://www.elliottmortuary.com/obituaries/randy-royse
LOCATION: 1219 N Main St  Hutchinson KS 67501
GEO:38.0668966;-97.9323033
END:VEVENT
END:VCALENDAR