BEGIN:VCALENDAR
VERSION:2.0
PRODID:-//Tukios.com/
BEGIN:VEVENT
UID:e99bfb03-b715-4a5c-8add-c8004e09dc4d@www.elliottmortuary.com
DTSTAMP:20260425T002628Z
DTSTART:20260501T150000Z
DTEND:20260501T160000Z
SUMMARY:Funeral Service
DESCRIPTION:
URL:https://www.elliottmortuary.com/obituaries/randy-royse
LOCATION: 1219 N Main St  Hutchinson KS 67501
GEO:38.0668966;-97.9323033
END:VEVENT
END:VCALENDAR