BEGIN:VCALENDAR
VERSION:2.0
PRODID:-//Tukios.com/
BEGIN:VEVENT
UID:17aefe35-081e-454d-8873-9861b476f353@www.elliottmortuary.com
DTSTAMP:20260421T190315Z
DTSTART:20260423T150000Z
DTEND:20260423T160000Z
SUMMARY:Graveside Service
DESCRIPTION:
URL:https://www.elliottmortuary.com/obituaries/steven-e-locke
LOCATION:Arlington Cemetery 13101 South Broadway Street  Arlington KS 
	67514
GEO:37.9054637;-98.1695039
END:VEVENT
END:VCALENDAR